BEGIN:VCALENDAR
VERSION:2.0
PRODID:-//Significant Church Network - ECPv6.15.20//NONSGML v1.0//EN
CALSCALE:GREGORIAN
METHOD:PUBLISH
X-WR-CALNAME:Significant Church Network
X-ORIGINAL-URL:https://significantchurch.com
X-WR-CALDESC:Events for Significant Church Network
REFRESH-INTERVAL;VALUE=DURATION:PT1H
X-Robots-Tag:noindex
X-PUBLISHED-TTL:PT1H
BEGIN:VTIMEZONE
TZID:America/Chicago
BEGIN:DAYLIGHT
TZOFFSETFROM:-0600
TZOFFSETTO:-0500
TZNAME:CDT
DTSTART:20250309T080000
END:DAYLIGHT
BEGIN:STANDARD
TZOFFSETFROM:-0500
TZOFFSETTO:-0600
TZNAME:CST
DTSTART:20251102T070000
END:STANDARD
BEGIN:DAYLIGHT
TZOFFSETFROM:-0600
TZOFFSETTO:-0500
TZNAME:CDT
DTSTART:20260308T080000
END:DAYLIGHT
BEGIN:STANDARD
TZOFFSETFROM:-0500
TZOFFSETTO:-0600
TZNAME:CST
DTSTART:20261101T070000
END:STANDARD
BEGIN:DAYLIGHT
TZOFFSETFROM:-0600
TZOFFSETTO:-0500
TZNAME:CDT
DTSTART:20270314T080000
END:DAYLIGHT
BEGIN:STANDARD
TZOFFSETFROM:-0500
TZOFFSETTO:-0600
TZNAME:CST
DTSTART:20271107T070000
END:STANDARD
END:VTIMEZONE
BEGIN:VEVENT
DTSTART;TZID=America/Chicago:20260312T130000
DTEND;TZID=America/Chicago:20260312T140000
DTSTAMP:20260422T114312
CREATED:20260209T230625Z
LAST-MODIFIED:20260311T133716Z
UID:108765-1773320400-1773324000@significantchurch.com
SUMMARY:Webinar: One Coffee Away: How to Reach People Through Relationship
DESCRIPTION:Ministry doesn’t just happen on the stage—it often happens across a table\, over a simple conversation. That’s why we’re excited to invite you to our next Significant Leader Podcast\, where we’ll talk about the power of relationships in helping people move closer to Christ. \n📅 Thursday\, March 12th at 1PM CT / 2PM ET \n🎙️ “One Coffee Away: How to Reach People Through Relationship” \nWith Michael Graff and Pastor Joe Cameneti Jr. of Believers Church \nIn this episode\, Michael and Pastor Joe will explore how some of the most meaningful spiritual breakthroughs happen in personal conversations—not just public gatherings. You’ll hear practical insights on: \n\nWhy the gospel often moves at the speed of relationships\nHow everyday conversations can help people grow from spiritual milk to maturity\nWays a simple coffee meeting can resolve conflict\, build teams\, and create clarity\nHow relational evangelism opens doors for people to truly encounter Jesus\n\nYou’ll walk away encouraged and equipped to help people take their next step with God—sometimes just one conversation at a time.
URL:https://significantchurch.com/event/webinar-10/
CATEGORIES:Webinar
END:VEVENT
BEGIN:VEVENT
DTSTART;TZID=America/Chicago:20260326T130000
DTEND;TZID=America/Chicago:20260326T140000
DTSTAMP:20260422T114312
CREATED:20260209T230625Z
LAST-MODIFIED:20260311T133629Z
UID:117384-1774530000-1774533600@significantchurch.com
SUMMARY:Webinar: The Acceleration Mandate: God's Blueprint for Generational Impact
DESCRIPTION:God is accelerating His work in the earth—but it’s not through individuals alone. It’s through generations moving together. That’s why we’re excited to invite you to our next Significant Leader Podcast\, a conversation that will cast vision for the kind of generational unity that unleashes lasting spiritual impact. \n📅 Thursday\, March 26th at 1PM CT / 2PM ET \n🎙️ “The Acceleration Mandate: God’s Blueprint for Generational Impact” \nWith Pastors Jim Graff and John Nuzzo of Victory Family Church (Cranberry Township\, PA) \nIn this episode\, Pastor John will share key insights from The Acceleration Mandate\, a prophetic blueprint for building multi-generational momentum in your church. Together\, he and Pastor Jim will unpack: \n\nWhy alignment between generations is the key to spiritual acceleration\nHow to transfer wisdom without control or delay\nWhat “new wineskins” look like for today’s leaders\nHow every believer can step into their assignment with clarity and urgency
URL:https://significantchurch.com/event/webinar-the-acceleration-mandate-gods-blueprint-for-generational-impact/
CATEGORIES:Webinar
END:VEVENT
END:VCALENDAR