BEGIN:VCALENDAR
VERSION:2.0
PRODID:-//Significant Church Network - ECPv6.15.20//NONSGML v1.0//EN
CALSCALE:GREGORIAN
METHOD:PUBLISH
X-ORIGINAL-URL:https://significantchurch.com
X-WR-CALDESC:Events for Significant Church Network
REFRESH-INTERVAL;VALUE=DURATION:PT1H
X-Robots-Tag:noindex
X-PUBLISHED-TTL:PT1H
BEGIN:VTIMEZONE
TZID:America/Chicago
BEGIN:DAYLIGHT
TZOFFSETFROM:-0600
TZOFFSETTO:-0500
TZNAME:CDT
DTSTART:20240310T080000
END:DAYLIGHT
BEGIN:STANDARD
TZOFFSETFROM:-0500
TZOFFSETTO:-0600
TZNAME:CST
DTSTART:20241103T070000
END:STANDARD
BEGIN:DAYLIGHT
TZOFFSETFROM:-0600
TZOFFSETTO:-0500
TZNAME:CDT
DTSTART:20250309T080000
END:DAYLIGHT
BEGIN:STANDARD
TZOFFSETFROM:-0500
TZOFFSETTO:-0600
TZNAME:CST
DTSTART:20251102T070000
END:STANDARD
BEGIN:DAYLIGHT
TZOFFSETFROM:-0600
TZOFFSETTO:-0500
TZNAME:CDT
DTSTART:20260308T080000
END:DAYLIGHT
BEGIN:STANDARD
TZOFFSETFROM:-0500
TZOFFSETTO:-0600
TZNAME:CST
DTSTART:20261101T070000
END:STANDARD
END:VTIMEZONE
BEGIN:VEVENT
DTSTART;TZID=America/Chicago:20251009T130000
DTEND;TZID=America/Chicago:20251009T140000
DTSTAMP:20260422T185518
CREATED:20250926T055847Z
LAST-MODIFIED:20250926T055847Z
UID:106722-1760014800-1760018400@significantchurch.com
SUMMARY:Webinar: October 9th
DESCRIPTION:📅 Join us Thursday\, October 9th at 1PM CT / 2PM ET for our next Significant Leader Webinar!
URL:https://significantchurch.com/event/webinar-october-9th/
CATEGORIES:Webinar
END:VEVENT
BEGIN:VEVENT
DTSTART;TZID=America/Chicago:20251023T130000
DTEND;TZID=America/Chicago:20251023T140000
DTSTAMP:20260422T185518
CREATED:20251007T210731Z
LAST-MODIFIED:20251021T234857Z
UID:107404-1761224400-1761228000@significantchurch.com
SUMMARY:Webinar: From Predictable to Purposeful Services
DESCRIPTION:We all want our church services to be more than just “good”—we want them to be God-inspired and life-changing. That’s why we’re excited to invite you to our next live Significant Leader Podcast—a conversation designed to help you lead services that move from predictable to purposeful. \n📅 Thursday\, October 23rd at 1PM CT / 2PM ET \n🎙️ “From Predictable to Purposeful Services” \nWith Pastors Jim Graff of Faith Family Church in Victoria\, TX and Scott Porter of Abiding Word Church in Sterling\, IL \nAfter more than three decades of faithful ministry\, Pastors Jim and Scott will share five key principles they’ve learned about creating worship experiences that mature believers\, inspire first-time guests\, and keep your church moving forward on mission. You’ll hear practical wisdom on: \n\nPreparing with prayer and intention\nUsing biblical teaching to fuel transformation\nDesigning message templates that speak to every heart\nStructuring series for real spiritual growth\nManaging your energy to bring your best to the pulpit and beyond\n\nLet’s grow stronger together as leaders—and lead services that make heaven rejoice.
URL:https://significantchurch.com/event/webinar-from-predictable-to-purposeful-services/
CATEGORIES:Webinar
END:VEVENT
END:VCALENDAR