BEGIN:VCALENDAR
VERSION:2.0
PRODID:-//Significant Church Network - ECPv6.15.20//NONSGML v1.0//EN
CALSCALE:GREGORIAN
METHOD:PUBLISH
X-WR-CALNAME:Significant Church Network
X-ORIGINAL-URL:https://significantchurch.com
X-WR-CALDESC:Events for Significant Church Network
REFRESH-INTERVAL;VALUE=DURATION:PT1H
X-Robots-Tag:noindex
X-PUBLISHED-TTL:PT1H
BEGIN:VTIMEZONE
TZID:America/Chicago
BEGIN:DAYLIGHT
TZOFFSETFROM:-0600
TZOFFSETTO:-0500
TZNAME:CDT
DTSTART:20230312T080000
END:DAYLIGHT
BEGIN:STANDARD
TZOFFSETFROM:-0500
TZOFFSETTO:-0600
TZNAME:CST
DTSTART:20231105T070000
END:STANDARD
BEGIN:DAYLIGHT
TZOFFSETFROM:-0600
TZOFFSETTO:-0500
TZNAME:CDT
DTSTART:20240310T080000
END:DAYLIGHT
BEGIN:STANDARD
TZOFFSETFROM:-0500
TZOFFSETTO:-0600
TZNAME:CST
DTSTART:20241103T070000
END:STANDARD
BEGIN:DAYLIGHT
TZOFFSETFROM:-0600
TZOFFSETTO:-0500
TZNAME:CDT
DTSTART:20250309T080000
END:DAYLIGHT
BEGIN:STANDARD
TZOFFSETFROM:-0500
TZOFFSETTO:-0600
TZNAME:CST
DTSTART:20251102T070000
END:STANDARD
BEGIN:DAYLIGHT
TZOFFSETFROM:-0600
TZOFFSETTO:-0500
TZNAME:CDT
DTSTART:20260308T080000
END:DAYLIGHT
BEGIN:STANDARD
TZOFFSETFROM:-0500
TZOFFSETTO:-0600
TZNAME:CST
DTSTART:20261101T070000
END:STANDARD
END:VTIMEZONE
BEGIN:VEVENT
DTSTART;TZID=America/Chicago:20250612T130000
DTEND;TZID=America/Chicago:20250612T140000
DTSTAMP:20260422T173228
CREATED:20250602T175143Z
LAST-MODIFIED:20250605T152545Z
UID:85362-1749733200-1749736800@significantchurch.com
SUMMARY:Webinar: When Fear Impacts Your Faith
DESCRIPTION:Join us for the next Significant Leader Webinar on Thursday\, June 12\, 2025 at 1PM CT / 2PM ET. Pastor Jim will be joined by Gary Brothers for the webinar “When Fear Impacts Your Faith.”
URL:https://significantchurch.com/event/webinar-june-12/
CATEGORIES:Webinar
END:VEVENT
BEGIN:VEVENT
DTSTART;VALUE=DATE:20250603
DTEND;VALUE=DATE:20250604
DTSTAMP:20260422T173228
CREATED:20250423T191645Z
LAST-MODIFIED:20250423T195929Z
UID:78835-1748908800-1748995199@significantchurch.com
SUMMARY:xChange - Victoria\, TX
DESCRIPTION:We are so excited about the move God is doing through our many SCN churches and other churches throughout the region! We know that we are simply better together\, and Xchanges like this one will enable us to help one another as we exchange ideas and proven ministry strategies in a highly relational\, FREE\, one-day event. Every time we get together\, we leave encouraged\, inspired\, and refreshed! Won’t you join us? \nLocation:\nFaith Family Church\n2002 E Mockingbird Ln\,\nVictoria\, TX 77904 \nRegister Now for this event.
URL:https://significantchurch.com/event/xchange-victoria-tx/
LOCATION:Faith Family Church\, 2002 E Mockingbird Ln\, Victoria\, 77904\, United States
CATEGORIES:Xchanges
END:VEVENT
BEGIN:VEVENT
DTSTART;TZID=America/Chicago:20250529T130000
DTEND;TZID=America/Chicago:20250529T140000
DTSTAMP:20260422T173228
CREATED:20250513T143229Z
LAST-MODIFIED:20250527T163117Z
UID:81655-1748523600-1748527200@significantchurch.com
SUMMARY:Webinar: Preparing Our Church for Renewal in the Holy Spirit
DESCRIPTION:Join us for the SCN Leader’s Webinar\, “Preparing Our Church for Renewal in the Holy Spirit\,” on May 29th at 1PM CT / 2PM CT. This webinar will focus on equipping church leaders to embrace and lead their congregations into a fresh move of the Holy Spirit. \nFeaturing Pastor Jim Graff of Faith Family Church and Pastor John Nuzzo of Victory Family Church\, the session will explore themes such as multi-generational renewal\, discerning God’s direction in different seasons\, overcoming ministry roadblocks\, and preparing the next generation for leadership. \nWith over four decades of pastoral experience\, Pastor Jim brings deep wisdom and a steady\, compassionate voice to a season where many churches are seeking fresh vision and alignment with God’s purposes. Pastor John will also share insights from his upcoming book and personal experiences from decades of ministry. This webinar will help pastors align their vision and ministry with God’s renewing work in the Church today\, so make plans to join us!
URL:https://significantchurch.com/event/webinar-9/
CATEGORIES:Webinar
END:VEVENT
BEGIN:VEVENT
DTSTART;TZID=America/Chicago:20250515T130000
DTEND;TZID=America/Chicago:20250515T140000
DTSTAMP:20260422T173228
CREATED:20250417T202218Z
LAST-MODIFIED:20250513T182042Z
UID:77727-1747314000-1747317600@significantchurch.com
SUMMARY:Webinar: How to Balance Family and Ministry
DESCRIPTION:In ministry\, we’re often giving our best to others—but what if our best started at home? When our families are strong\, our ministries become even stronger. And when we thrive together\, our impact multiplies. \nLife gets busy. Seasons shift. Without a plan\, the ones who matter most can end up getting what’s left. That’s why this conversation is so important. \nJoin Pastor Jim Graff\, his wife Tamara\, and their adult children for an insightful webinar as they share how their family has stayed connected and grounded while serving in ministry for over 40 years. \n📅 Date: Thursday\, May 15th\n🕐 Time: 1PM CT / 2PM ET \nYou’ll walk away with practical\, life-giving tools to: \n\nBuild a ministry that strengthens your family—not strains it\nCreate a calendar that reflects your true priorities\nInvite your kids into church life in a healthy\, meaningful way\nMake room for rest\, relationships\, and your own growth as a leader\n\nWhether you’re navigating early years of parenting or leading adult children\, this transparent conversation will equip you with timeless\, practical wisdom.
URL:https://significantchurch.com/event/webinar-how-to-balance-family-and-ministry/
CATEGORIES:Webinar
END:VEVENT
BEGIN:VEVENT
DTSTART;TZID=America/Chicago:20250501T130000
DTEND;TZID=America/Chicago:20250501T140000
DTSTAMP:20260422T173228
CREATED:20250417T202054Z
LAST-MODIFIED:20250417T202054Z
UID:77725-1746104400-1746108000@significantchurch.com
SUMMARY:Webinar: Leading Teams Through Conflict
DESCRIPTION:Join Pastor Jim and Matt Mashburn for the webinar “Leading Teams Through Conflict” on Thursday\, May 1 at 1 PM CT / 2 PM ET.
URL:https://significantchurch.com/event/webinar-leading-teams-through-conflict/
CATEGORIES:Webinar
END:VEVENT
BEGIN:VEVENT
DTSTART;TZID=America/Chicago:20250417T130000
DTEND;TZID=America/Chicago:20250417T140000
DTSTAMP:20260422T173228
CREATED:20250320T214650Z
LAST-MODIFIED:20250416T142557Z
UID:75260-1744894800-1744898400@significantchurch.com
SUMMARY:Webinar: Leveraging Online Influence
DESCRIPTION:In today’s digital world\, your online presence is one of the most powerful tools for ministry. Whether you’re just getting started or looking to take your reach to the next level\, this upcoming webinar will encourage and equip you. \nJoin Pastor Jim and Pastor Chuck Tate for a timely conversation on “Leveraging Online Influence”—a live webinar happening Thursday\, April 17 at 1 PM CT / 2 PM ET. \nThey’ll be sharing insights and strategies for engaging people online in meaningful\, effective ways. If you’re a pastor or ministry leader\, you won’t want to miss this!
URL:https://significantchurch.com/event/webinar-leveraging-online-influence/
CATEGORIES:Webinar
END:VEVENT
BEGIN:VEVENT
DTSTART;TZID=America/Chicago:20250403T130000
DTEND;TZID=America/Chicago:20250403T140000
DTSTAMP:20260422T173228
CREATED:20250320T214405Z
LAST-MODIFIED:20250403T161613Z
UID:75257-1743685200-1743688800@significantchurch.com
SUMMARY:Webinar: Preparing for the Future and Preparing Future Leaders
DESCRIPTION:Join Pastor Jim and Michael Graff for the webinar “Preparing for the Future and Preparing Future Leaders” on Thursday\, April 3\, 2025\, at 1 PM CT / 2 PM ET. Pastor Jim and Michael will be discussing how existential flexibility and innovative thinking can help the church stay relevant.
URL:https://significantchurch.com/event/webinar-preparing-for-the-future-church/
CATEGORIES:Webinar
END:VEVENT
BEGIN:VEVENT
DTSTART;TZID=America/Chicago:20250320T130000
DTEND;TZID=America/Chicago:20250320T140000
DTSTAMP:20260422T173228
CREATED:20250114T200452Z
LAST-MODIFIED:20250320T175228Z
UID:70689-1742475600-1742479200@significantchurch.com
SUMMARY:Webinar: Spiritual Parenting - Overcoming Resistance to Change
DESCRIPTION:Join Pastor Jim and Pastor Mark Harrell for the webinar “Overcoming Resistance to Change” on Thursday\, March 20\, 2025\, at 1 PM CT / 2 PM ET. Pastor Jim and Pastor Mark will be discussing helping your church navigate resistance to change with wisdom and clarity.
URL:https://significantchurch.com/event/webinar-8/
CATEGORIES:Webinar
END:VEVENT
BEGIN:VEVENT
DTSTART;TZID=America/Chicago:20250306T130000
DTEND;TZID=America/Chicago:20250306T140000
DTSTAMP:20260422T173228
CREATED:20250114T200409Z
LAST-MODIFIED:20250303T183339Z
UID:70688-1741266000-1741269600@significantchurch.com
SUMMARY:Webinar: Communicating Vision in Times of Change
DESCRIPTION:Join Pastor Jim and Pastor Mike Ware for the webinar “Communicating Vision in Times of Change” on Thursday\, March 6\, 2025\, at 1 PM CT / 2 PM ET. This webinar will focus on developing clear\, compelling communication strategies for leading through transitions.
URL:https://significantchurch.com/event/webinar-7/
CATEGORIES:Webinar
END:VEVENT
BEGIN:VEVENT
DTSTART;TZID=America/Chicago:20250220T130000
DTEND;TZID=America/Chicago:20250220T140000
DTSTAMP:20260422T173228
CREATED:20250114T200343Z
LAST-MODIFIED:20250216T040309Z
UID:70687-1740056400-1740060000@significantchurch.com
SUMMARY:Webinar: Navigating Church Decline and Growth Trends
DESCRIPTION:Join Pastor Jim and Pastor Jason Swann\, Thursday\, February 20\, 2025\, at 1 PM CT / 2 PM ET for the webinar “Navigating Church Decline and Growth Trends.” This webinar will focus on practical steps for churches facing declining attendance and cultural shifts.
URL:https://significantchurch.com/event/webinar-6/
CATEGORIES:Webinar
END:VEVENT
BEGIN:VEVENT
DTSTART;TZID=America/Chicago:20250206T130000
DTEND;TZID=America/Chicago:20250206T140000
DTSTAMP:20260422T173228
CREATED:20250114T200247Z
LAST-MODIFIED:20250123T214417Z
UID:70685-1738846800-1738850400@significantchurch.com
SUMMARY:Webinar: Shifting from a Driven to a Called Leadership Model
DESCRIPTION:Join Pastor Jim\, Thursday\, February 6\, 2025\, at 1 PM CT / 2 PM ET for the webinar “Shifting from a Driven to a Called Leadership Model”.
URL:https://significantchurch.com/event/webinar-5/
CATEGORIES:Webinar
END:VEVENT
BEGIN:VEVENT
DTSTART;VALUE=DATE:20250127
DTEND;VALUE=DATE:20250130
DTSTAMP:20260422T173228
CREATED:20240815T221847Z
LAST-MODIFIED:20250123T204948Z
UID:59473-1737936000-1738195199@significantchurch.com
SUMMARY:Significant Church Leaders Retreat 2025
DESCRIPTION:[vc_row css_animation=”” row_type=”row” use_row_as_full_screen_section=”no” type=”full_width” angled_section=”no” text_align=”left” background_image_as_pattern=”without_pattern”][vc_column width=”1/2″ css=”.vc_custom_1737664821934{padding-top: 15px !important;padding-bottom: 15px !important;}”][vc_column_text css=”.vc_custom_1737664884420{margin-top: 15px !important;}”] \n\nThe National Leadership Retreat is for building ministry friendships and enjoying a special time for rest\, relaxation and recharging for ministry. \n\nYou can view the conference schedule HERE. \n\nSuggested hotels in Victoria: \n\nHilton Garden Inn \nCourtyard Marriott\nHoliday Inn Express\n\nPlease contact Kristi Graff for any other questions or details at (361)648-2551 or kgraff@myffc.com \n\n[/vc_column_text][vc_empty_space height=”15px”]Reserve your spot today![/vc_column][vc_column width=”1/2″ css=”.vc_custom_1737664826709{padding-top: 15px !important;padding-bottom: 15px !important;}”][vc_single_image image=”22299″ img_size=”full” alignment=”center” css=”.vc_custom_1737664879348{margin-top: 15px !important;}” qode_css_animation=””][/vc_column][/vc_row][vc_row css_animation=”” row_type=”row” use_row_as_full_screen_section=”no” type=”full_width” angled_section=”no” text_align=”left” background_image_as_pattern=”without_pattern” z_index=””][vc_column][vc_empty_space height=”50px”]Conference Sponsors[vc_row_inner row_type=”row” type=”full_width” text_align=”left” css_animation=””][vc_column_inner width=”1/3″][vc_single_image image=”71847″ img_size=”full” alignment=”center” onclick=”custom_link” css=”” qode_css_animation=”” link=”https://clergysupport.com/spire”][/vc_column_inner][vc_column_inner width=”1/3″][vc_single_image image=”71848″ img_size=”full” alignment=”center” onclick=”custom_link” css=”” qode_css_animation=”” link=”https://elevategroup.us/data-discovery-1″][/vc_column_inner][vc_column_inner width=”1/3″][vc_single_image image=”71850″ img_size=”full” alignment=”center” onclick=”custom_link” css=”” qode_css_animation=”” link=”https://linktr.ee/liveyourparable”][/vc_column_inner][/vc_row_inner][vc_row_inner row_type=”row” type=”full_width” text_align=”left” css_animation=””][vc_column_inner width=”1/6″][/vc_column_inner][vc_column_inner width=”1/6″][/vc_column_inner][vc_column_inner width=”1/6″][vc_single_image image=”71849″ img_size=”full” alignment=”center” onclick=”custom_link” css=”” qode_css_animation=”” link=”https://ministrychick.com”][/vc_column_inner][vc_column_inner width=”1/6″][vc_single_image image=”71851″ img_size=”full” alignment=”center” onclick=”custom_link” css=”” qode_css_animation=”” link=”https://simplicityenergysolutions.com”][/vc_column_inner][vc_column_inner width=”1/6″][/vc_column_inner][vc_column_inner width=”1/6″][/vc_column_inner][/vc_row_inner][/vc_column][/vc_row]
URL:https://significantchurch.com/event/significant-church-leaders-retreat-2025/
CATEGORIES:National Retreats
ATTACH;FMTTYPE=image/jpeg:https://significantchurch.com/wp-content/uploads/2024/08/scn-retreat.jpg
END:VEVENT
BEGIN:VEVENT
DTSTART;TZID=America/Chicago:20250123T130000
DTEND;TZID=America/Chicago:20250123T140000
DTSTAMP:20260422T173228
CREATED:20250103T214838Z
LAST-MODIFIED:20250116T134610Z
UID:69252-1737637200-1737640800@significantchurch.com
SUMMARY:Webinar: The Friends Pastors Need
DESCRIPTION:Isolation is a struggle faced by far too many in ministry—studies show that 68% of pastors feel disconnected and unsupported. But God never intended for us to walk alone. He designed us to thrive in community\, connected to relationships that bring wisdom\, support\, and strength. \nJoin Pastors Jim and Tamara Graff on Thursday\, January 23\, 2025\, at 1 PM CT / 2 PM ET for the Significant Leader Webinar titled “The Friends Pastors Need.” This session will focus on the relationships that are essential for pastors to succeed and fulfill God’s calling in their lives. \nDiscover how to: \n\nBuild meaningful\, life-giving connections.\nAvoid isolation by creating a network of support and accountability.\nEmbrace the power of relationships to multiply joy and divide burdens.\n\nDrawing from nearly four decades of pastoral experience\, Jim and Tamara will share Scripture-based insights and practical strategies to help you foster relationships that fuel your calling and ensure both your ministry and family flourish. \nDon’t miss this opportunity to find encouragement\, community\, and the tools to thrive in your role as a pastor or church leader. \nClick the button below to access the webinar—available 5 minutes before it begins so you can settle in!
URL:https://significantchurch.com/event/the-people-pastors-need-in-their-life/
CATEGORIES:Webinar
END:VEVENT
BEGIN:VEVENT
DTSTART;TZID=America/Chicago:20241219T130000
DTEND;TZID=America/Chicago:20241219T140000
DTSTAMP:20260422T173228
CREATED:20241206T190450Z
LAST-MODIFIED:20241218T225217Z
UID:66615-1734613200-1734616800@significantchurch.com
SUMMARY:How To Balance Family & Ministry
DESCRIPTION:Balancing the demands of ministry with the responsibilities of family can feel overwhelming\, especially during the Christmas season when the demands on your time and energy are even greater. Join the entire Graff family Thursday\, December 19th at 1PM CT / 2PM ET for the webinar How To Balance Family & Ministry as we explore seven key principles for maintaining harmony between ministry and home life\, led by experienced ministry leaders who’ve walked this journey firsthand. From crafting a family-focused calendar to fostering meaningful connections and managing time wisely\, you’ll discover practical strategies to navigate the unique challenges of ministry. Join us for insights\, encouragement\, and actionable steps to ensure your family flourishes as your ministry grows—this season and beyond.
URL:https://significantchurch.com/event/graff-christmas/
CATEGORIES:Webinar
END:VEVENT
BEGIN:VEVENT
DTSTART;TZID=America/Chicago:20241205T130000
DTEND;TZID=America/Chicago:20241205T140000
DTSTAMP:20260422T173228
CREATED:20240815T204535Z
LAST-MODIFIED:20241204T031538Z
UID:59470-1733403600-1733407200@significantchurch.com
SUMMARY:Helping People Move Forward
DESCRIPTION:Join Pastor Jim and Michael Graff on\, December\, 5\, 2024 at 1PM CST / 2PM EST for our next webinar. \nAre you seeing people in your congregation or on your staff feeling stuck\, overwhelmed\, or unable to take their next steps? As pastors\, we’re called to help them break through those barriers and move forward into God’s best for their lives. Join us for this empowering webinar\, Helping People Move Forward\, where we’ll unpack practical strategies\, biblical insights\, and proven pastoral tools to help you guide your church family through seasons of stagnation into momentum and growth. Don’t miss this opportunity to equip yourself to lead with clarity\, strength and compassion! \n 
URL:https://significantchurch.com/event/webinar-enjoying-christmas/
CATEGORIES:Webinar
END:VEVENT
BEGIN:VEVENT
DTSTART;TZID=America/Chicago:20241121T130000
DTEND;TZID=America/Chicago:20241121T140000
DTSTAMP:20260422T173228
CREATED:20240815T203354Z
LAST-MODIFIED:20241119T062545Z
UID:59467-1732194000-1732197600@significantchurch.com
SUMMARY:Webinar: Nurturing Trustworthy Leaders
DESCRIPTION:Join us on\, November\, 21\, 2024 at 1PM CST / 2PM EST for the webinar “Nurturing Trustworthy Leaders” with guest Pastor Joe Cameneti Jr.
URL:https://significantchurch.com/event/webinar-nurturing-trustworthy-leaders/
CATEGORIES:Webinar
END:VEVENT
BEGIN:VEVENT
DTSTART;TZID=America/Chicago:20241107T130000
DTEND;TZID=America/Chicago:20241107T140000
DTSTAMP:20260422T173228
CREATED:20240815T203207Z
LAST-MODIFIED:20241104T042103Z
UID:59465-1730984400-1730988000@significantchurch.com
SUMMARY:Webinar: Protecting Your Church From Toxic Leaders
DESCRIPTION:Join us on\, November\, 7\, 2024 at 1PM CST / 2PM EST for the webinar “Protecting Your Church From Toxic Leaders” with Pastor Jim Graff and Pastor Joe Cameneti Sr.
URL:https://significantchurch.com/event/webinar-protecting-your-church-from-toxic-leaders/
CATEGORIES:Webinar
END:VEVENT
BEGIN:VEVENT
DTSTART;TZID=America/Chicago:20241024T130000
DTEND;TZID=America/Chicago:20241024T140000
DTSTAMP:20260422T173228
CREATED:20240815T203056Z
LAST-MODIFIED:20241021T223727Z
UID:59461-1729774800-1729778400@significantchurch.com
SUMMARY:Webinar: Raising Up Future Leaders
DESCRIPTION:Join us on\, October\, 24\, 2024 at 1PM CST / 2PM EST for the webinar “Raising Up Future Leaders”.
URL:https://significantchurch.com/event/webinar-raising-up-future-leaders/
CATEGORIES:Webinar
END:VEVENT
BEGIN:VEVENT
DTSTART;TZID=America/Chicago:20241010T130000
DTEND;TZID=America/Chicago:20241010T140000
DTSTAMP:20260422T173228
CREATED:20240815T202546Z
LAST-MODIFIED:20241007T160629Z
UID:59456-1728565200-1728568800@significantchurch.com
SUMMARY:Webinar: Guiding Your Church Through the Election Season
DESCRIPTION:Join us on\, October\, 10\, 2024 at 1PM CST / 2PM EST for the webinar “Guiding Your Church Through the Election Season” with guest Congressman Michael Cloud.
URL:https://significantchurch.com/event/webinar-guiding-your-church-through-the-election-season/
CATEGORIES:Webinar
END:VEVENT
BEGIN:VEVENT
DTSTART;TZID=America/Chicago:20240926T130000
DTEND;TZID=America/Chicago:20240926T140000
DTSTAMP:20260422T173228
CREATED:20240815T202909Z
LAST-MODIFIED:20240912T190608Z
UID:59458-1727355600-1727359200@significantchurch.com
SUMMARY:Webinar: Creating a Culture of Service
DESCRIPTION:Join us on\, September\, 26\, 2024 at 1PM CST / 2PM EST for the webinar “Creating a Culture of Service” with Pastor Jim and Pastor Paul Foslien.
URL:https://significantchurch.com/event/webinar-creating-a-culture-of-service/
CATEGORIES:Webinar
END:VEVENT
BEGIN:VEVENT
DTSTART;TZID=America/Chicago:20240912T130000
DTEND;TZID=America/Chicago:20240912T140000
DTSTAMP:20260422T173228
CREATED:20240815T201635Z
LAST-MODIFIED:20240909T150208Z
UID:59454-1726146000-1726149600@significantchurch.com
SUMMARY:Webinar: Advancing Your Church by Being Attractive to the Generations
DESCRIPTION:Join us on\, September\, 12\, 2024 at 1PM CST / 2PM EST for the webinar “Advancing Your Church by Being Attractive to the Generations”.
URL:https://significantchurch.com/event/webinar-advancing-your-church-by-being-attractive/
CATEGORIES:Webinar
END:VEVENT
BEGIN:VEVENT
DTSTART;TZID=America/Chicago:20240829T130000
DTEND;TZID=America/Chicago:20240829T140000
DTSTAMP:20260422T173228
CREATED:20240815T200421Z
LAST-MODIFIED:20240815T215054Z
UID:59452-1724936400-1724940000@significantchurch.com
SUMMARY:Webinar: The Many Voices of Successful Shepherds
DESCRIPTION:Join us on\, August\, 29\, 2024 at 1PM CST / 2PM EST for the webinar “The Many Voices of Successful Shepherds”
URL:https://significantchurch.com/event/webinar-the-many-voices-of-successful-shepherds/
CATEGORIES:Webinar
END:VEVENT
BEGIN:VEVENT
DTSTART;TZID=America/Chicago:20240815T130000
DTEND;TZID=America/Chicago:20240815T140000
DTSTAMP:20260422T173228
CREATED:20240613T201525Z
LAST-MODIFIED:20240808T022719Z
UID:58056-1723726800-1723730400@significantchurch.com
SUMMARY:Webinar: Increasing Decisions for Christ Amidst Church Decline
DESCRIPTION:Join Pastor Jim Graff  on August 15th at 1PM CST / 2PM EST for the next Significant Church Webinar “Increasing Decisions for Christ Amidst Church Decline”
URL:https://significantchurch.com/event/august-15-2024/
CATEGORIES:Webinar
ATTACH;FMTTYPE=image/jpeg:https://significantchurch.com/wp-content/uploads/2021/01/slw_logo.jpg
END:VEVENT
BEGIN:VEVENT
DTSTART;TZID=America/Chicago:20240627T130000
DTEND;TZID=America/Chicago:20240627T140000
DTSTAMP:20260422T173228
CREATED:20240627T214631Z
LAST-MODIFIED:20240627T214631Z
UID:58357-1719493200-1719496800@significantchurch.com
SUMMARY:Webinar: Refreshed\, Repentance\, Rhythms
DESCRIPTION:As pastors and leaders\, we know that living refreshed and with healthy rhythms makes a huge difference. But we also know that this doesn’t just happen by accident. Join Pastors Jim Graff and Pat Murray June 27th at 1PM CST / 2PM EST for a webinar entitled “Refreshed\, Repentance\, Rhythms.” \nWe’re going to talk about finding refreshing in the Lord\, repenting so we make better decisions as our ministries mature\, and developing better rhythms each ministry year. We’ll also take questions from attendees. See you soon! \nPat & Jackie Murray have served in pastoral ministry service since 1982. They founded the Living Word Church in Vandalia\, Ohio in 1989. Since the establishment of the Church\, Pastor Murray has assisted in the planting eight churches\, in Ohio\, Kentucky\, Indiana\, Arizona and California. With a global reach into international missions Pastor Pat has influenced the growth of the kingdom in dozens of nations and that influence continues to grow. \nPastor Pat has been a host of the Praise The Lord program on the Trinity Broadcasting Network both locally and as a guests internationally. Pastor Pat is a 1981 graduate of Rhema Bible Training Center and has an earned Bachelors degree in theology from Christian Life School of Theology as well as an honorary Doctor of Divinity from Beacon University. The Murray’s have a passion to train and influence leaders around the world. \nThe Murray’s are dedicated to their family and have three sons and four beautiful grandchildren.
URL:https://significantchurch.com/event/webinar-refreshed-repentance-rhythms/
CATEGORIES:Webinar
ATTACH;FMTTYPE=image/jpeg:https://significantchurch.com/wp-content/uploads/2021/01/slw_logo.jpg
END:VEVENT
BEGIN:VEVENT
DTSTART;TZID=America/Chicago:20240613T130000
DTEND;TZID=America/Chicago:20240613T140000
DTSTAMP:20260422T173228
CREATED:20240603T144516Z
LAST-MODIFIED:20240611T160245Z
UID:57826-1718283600-1718287200@significantchurch.com
SUMMARY:Webinar: The Winning Play: Setting Goals for Real Success
DESCRIPTION:Join Pastor Jim Graff and Jeff Caliguire for the next SCN Webinar “The Winning Play: Setting Goals for Real Success” on June 13th at 1PM CST / 2PM EST.
URL:https://significantchurch.com/event/webinar-4/
CATEGORIES:Webinar
ATTACH;FMTTYPE=image/jpeg:https://significantchurch.com/wp-content/uploads/2021/01/slw_logo.jpg
END:VEVENT
BEGIN:VEVENT
DTSTART;TZID=America/Chicago:20240530T130000
DTEND;TZID=America/Chicago:20240530T140000
DTSTAMP:20260422T173228
CREATED:20240516T190911Z
LAST-MODIFIED:20240516T191138Z
UID:57351-1717074000-1717077600@significantchurch.com
SUMMARY:Webinar: From Limping to Leading
DESCRIPTION:Join Pastor Jim Graff and Chuck Tate for the next SCN Webinar “From Limping to Leading” on May 30th at 1PM CST / 2PM EST.
URL:https://significantchurch.com/event/webinar-from-limping-to-leading/
CATEGORIES:Webinar
ATTACH;FMTTYPE=image/jpeg:https://significantchurch.com/wp-content/uploads/2021/01/slw_logo.jpg
END:VEVENT
BEGIN:VEVENT
DTSTART;VALUE=DATE:20240521
DTEND;VALUE=DATE:20240522
DTSTAMP:20260422T173228
CREATED:20240410T182411Z
LAST-MODIFIED:20240410T182411Z
UID:56492-1716249600-1716335999@significantchurch.com
SUMMARY:xChange - New Braunfels\, TX
DESCRIPTION:Location:\nTree of Life Church\n5513 IH 35 S.\nNew Braunfels\, TX 78132 \nDate:\nMay 21\, 2024 \nTime:\nCheck-in (w/breakfast provided): 8:00 am – 9:00 am\nXChange: 9:00 am – 3:00 pm \nTo register\, call or visit the link below.\nPhone: (830) 625-6375\nRegister Online
URL:https://significantchurch.com/event/xchange-new-braunfels-tx-2/
LOCATION:Tree of Life Church\, 5513 IH-35 South\, New Braunfels\, TX\, 78132\, United States
CATEGORIES:Xchanges
END:VEVENT
BEGIN:VEVENT
DTSTART;TZID=America/Chicago:20240516T130000
DTEND;TZID=America/Chicago:20240516T140000
DTSTAMP:20260422T173228
CREATED:20240502T194138Z
LAST-MODIFIED:20240502T194212Z
UID:56969-1715864400-1715868000@significantchurch.com
SUMMARY:Webinar: Nurturing Mental and Emotional Health in You and Your Team
DESCRIPTION:Join Pastor Jim Graff and Josh Spurlock for the next SCN Webinar “Nurturing Mental and Emotional Health in You and Your Team” on May 16th at 1PM CST / 2PM EST.
URL:https://significantchurch.com/event/webinar-nurturing-mental-and-emotional-health-in-you-and-your-team/
CATEGORIES:Webinar
ATTACH;FMTTYPE=image/jpeg:https://significantchurch.com/wp-content/uploads/2021/01/slw_logo.jpg
END:VEVENT
BEGIN:VEVENT
DTSTART;VALUE=DATE:20240506
DTEND;VALUE=DATE:20240507
DTSTAMP:20260422T173228
CREATED:20240417T192723Z
LAST-MODIFIED:20240424T192853Z
UID:56832-1714953600-1715039999@significantchurch.com
SUMMARY:xChange - Living Word Church
DESCRIPTION:Location:\nLiving Word Church\nPastor Pat Murray\n926 E. National Rd.\nVandalia OH 45377 \nDate:\nMay 6\, 2024 \nWill be hosting an XChange on Monday\, May 6th from 9am-12pm. \nThis is free of charge for any Pastor but you must register. Please call the church at (937) 454-0609 to confirm your reservation.
URL:https://significantchurch.com/event/xchange-living-word-church/
LOCATION:Living Word Church\, 926 E. National Rd.\, Vandalia\, OH\, 45377
CATEGORIES:Xchanges
END:VEVENT
BEGIN:VEVENT
DTSTART;TZID=America/Chicago:20240502T130000
DTEND;TZID=America/Chicago:20240502T140000
DTSTAMP:20260422T173228
CREATED:20240419T135038Z
LAST-MODIFIED:20240429T173925Z
UID:56709-1714654800-1714658400@significantchurch.com
SUMMARY:Webinar: 3 Keys to Becoming a Transformational Leader
DESCRIPTION:Join Pastor Jim Graff and Tony Velasquez for the next SCN Webinar “3 Keys to Becoming a Transformational Leader” on May 2nd at 1PM CST / 2PM EST.
URL:https://significantchurch.com/event/webinar-3/
CATEGORIES:Webinar
ATTACH;FMTTYPE=image/jpeg:https://significantchurch.com/wp-content/uploads/2021/01/slw_logo.jpg
END:VEVENT
END:VCALENDAR