BEGIN:VCALENDAR
VERSION:2.0
PRODID:-//Significant Church Network - ECPv6.15.20//NONSGML v1.0//EN
CALSCALE:GREGORIAN
METHOD:PUBLISH
X-ORIGINAL-URL:https://significantchurch.com
X-WR-CALDESC:Events for Significant Church Network
REFRESH-INTERVAL;VALUE=DURATION:PT1H
X-Robots-Tag:noindex
X-PUBLISHED-TTL:PT1H
BEGIN:VTIMEZONE
TZID:America/Chicago
BEGIN:DAYLIGHT
TZOFFSETFROM:-0600
TZOFFSETTO:-0500
TZNAME:CDT
DTSTART:20240310T080000
END:DAYLIGHT
BEGIN:STANDARD
TZOFFSETFROM:-0500
TZOFFSETTO:-0600
TZNAME:CST
DTSTART:20241103T070000
END:STANDARD
BEGIN:DAYLIGHT
TZOFFSETFROM:-0600
TZOFFSETTO:-0500
TZNAME:CDT
DTSTART:20250309T080000
END:DAYLIGHT
BEGIN:STANDARD
TZOFFSETFROM:-0500
TZOFFSETTO:-0600
TZNAME:CST
DTSTART:20251102T070000
END:STANDARD
BEGIN:DAYLIGHT
TZOFFSETFROM:-0600
TZOFFSETTO:-0500
TZNAME:CDT
DTSTART:20260308T080000
END:DAYLIGHT
BEGIN:STANDARD
TZOFFSETFROM:-0500
TZOFFSETTO:-0600
TZNAME:CST
DTSTART:20261101T070000
END:STANDARD
BEGIN:DAYLIGHT
TZOFFSETFROM:-0600
TZOFFSETTO:-0500
TZNAME:CDT
DTSTART:20270314T080000
END:DAYLIGHT
BEGIN:STANDARD
TZOFFSETFROM:-0500
TZOFFSETTO:-0600
TZNAME:CST
DTSTART:20271107T070000
END:STANDARD
END:VTIMEZONE
BEGIN:VEVENT
DTSTART;TZID=America/Chicago:20250911T130000
DTEND;TZID=America/Chicago:20250911T140000
DTSTAMP:20260422T221531
CREATED:20250819T220503Z
LAST-MODIFIED:20250909T194930Z
UID:100151-1757595600-1757599200@significantchurch.com
SUMMARY:Webinar: September 11th
DESCRIPTION:Join Pastor Jim Graff of Faith Family Church and Noah Brown of Clergy Advantage for a power-packed webinar that tackles one of the most overlooked areas of ministry leadership: your financial well-being. \n📅 Webinar: Financial Planning for Pastors\n🗓️ Thursday\, September 11th\n🕐 1:00PM CST \nWhat You’ll Learn: \n\nThe 4 key tax advantages most pastors don’t know they qualify for\nHow to maximize the housing allowance—even in retirement\nThe truth about opting out of Social Security and how to plan if you have\nWhy most financial advice doesn’t work for pastors—and what actually does\nThe right way to think about life insurance\, disability coverage\, and retirement planning\nWhat to do in your 20s\, 30s\, or 40s to avoid future financial regret\n\nWhy This Matters: \nPastor Jim has seen too many leaders sacrifice everything for ministry only to feel lost financially later in life. Noah grew up in a ministry family that lost everything in a financial scheme—and he’s made it his mission to protect and empower pastors with the financial tools they need to thrive. \nTogether\, they bring a rare mix of pastoral experience and financial expertise—and they’re bringing it to you\, for free. \nRegister \n\n\n  \n\n\n\n Name\n \n \n Email\n \n \n Organization (optional)\n \n \n\nYes! I would like to receive emails about upcoming webinars\, SCN leaders\,  product offers and more.
URL:https://significantchurch.com/event/webinar-september-11th/
CATEGORIES:Webinar
END:VEVENT
BEGIN:VEVENT
DTSTART;VALUE=DATE:20250916
DTEND;VALUE=DATE:20250917
DTSTAMP:20260422T221531
CREATED:20250417T210543Z
LAST-MODIFIED:20250417T210543Z
UID:77733-1757980800-1758067199@significantchurch.com
SUMMARY:xChange - New Braunfels\, TX
DESCRIPTION:Location:\nTree of Life Church\n5513 IH 35 S.\nNew Braunfels\, TX 78132 \nMore information coming soon…
URL:https://significantchurch.com/event/xchange-new-braunfels-tx-3/
LOCATION:Tree of Life Church\, 5513 IH-35 South\, New Braunfels\, TX\, 78132\, United States
CATEGORIES:Xchanges
END:VEVENT
BEGIN:VEVENT
DTSTART;TZID=America/Chicago:20250925T130000
DTEND;TZID=America/Chicago:20250925T140000
DTSTAMP:20260422T221531
CREATED:20250908T150053Z
LAST-MODIFIED:20250908T150121Z
UID:104418-1758805200-1758808800@significantchurch.com
SUMMARY:Webinar: September 25th
DESCRIPTION:📅 Join us Thursday\, September 25th at 1PM CT / 2PM ET for our next Significant Leader Webinar!
URL:https://significantchurch.com/event/webinar-september-25th/
CATEGORIES:Webinar
END:VEVENT
BEGIN:VEVENT
DTSTART;TZID=America/Chicago:20251009T130000
DTEND;TZID=America/Chicago:20251009T140000
DTSTAMP:20260422T221531
CREATED:20250926T055847Z
LAST-MODIFIED:20250926T055847Z
UID:106722-1760014800-1760018400@significantchurch.com
SUMMARY:Webinar: October 9th
DESCRIPTION:📅 Join us Thursday\, October 9th at 1PM CT / 2PM ET for our next Significant Leader Webinar!
URL:https://significantchurch.com/event/webinar-october-9th/
CATEGORIES:Webinar
END:VEVENT
BEGIN:VEVENT
DTSTART;TZID=America/Chicago:20251023T130000
DTEND;TZID=America/Chicago:20251023T140000
DTSTAMP:20260422T221531
CREATED:20251007T210731Z
LAST-MODIFIED:20251021T234857Z
UID:107404-1761224400-1761228000@significantchurch.com
SUMMARY:Webinar: From Predictable to Purposeful Services
DESCRIPTION:We all want our church services to be more than just “good”—we want them to be God-inspired and life-changing. That’s why we’re excited to invite you to our next live Significant Leader Podcast—a conversation designed to help you lead services that move from predictable to purposeful. \n📅 Thursday\, October 23rd at 1PM CT / 2PM ET \n🎙️ “From Predictable to Purposeful Services” \nWith Pastors Jim Graff of Faith Family Church in Victoria\, TX and Scott Porter of Abiding Word Church in Sterling\, IL \nAfter more than three decades of faithful ministry\, Pastors Jim and Scott will share five key principles they’ve learned about creating worship experiences that mature believers\, inspire first-time guests\, and keep your church moving forward on mission. You’ll hear practical wisdom on: \n\nPreparing with prayer and intention\nUsing biblical teaching to fuel transformation\nDesigning message templates that speak to every heart\nStructuring series for real spiritual growth\nManaging your energy to bring your best to the pulpit and beyond\n\nLet’s grow stronger together as leaders—and lead services that make heaven rejoice.
URL:https://significantchurch.com/event/webinar-from-predictable-to-purposeful-services/
CATEGORIES:Webinar
END:VEVENT
BEGIN:VEVENT
DTSTART;TZID=America/Chicago:20251106T130000
DTEND;TZID=America/Chicago:20251106T140000
DTSTAMP:20260422T221531
CREATED:20251007T210931Z
LAST-MODIFIED:20251007T210931Z
UID:107406-1762434000-1762437600@significantchurch.com
SUMMARY:Webinar: Why Christmas Crowds Have Increased and What to Do about It
DESCRIPTION:📅 Join us Thursday\, November 6th at 1PM CT / 2PM ET for our next Significant Leader Podcast\, Why Christmas Crowds Have Increased and What to Do about It.
URL:https://significantchurch.com/event/webinar-why-christmas-crowds-have-increased-and-what-to-do-about-it/
CATEGORIES:Webinar
END:VEVENT
BEGIN:VEVENT
DTSTART;TZID=America/Chicago:20251120T130000
DTEND;TZID=America/Chicago:20251120T140000
DTSTAMP:20260422T221531
CREATED:20251103T120228Z
LAST-MODIFIED:20251119T195940Z
UID:108762-1763643600-1763647200@significantchurch.com
SUMMARY:Webinar: Increasing Volunteer Teams
DESCRIPTION:📅 Join us Thursday\, November 20th at 1PM CT / 2PM ET for our next Significant Leader Podcast\, Increasing Volunteer Teams:\nHow to Build\, Empower\, and Inspire Your Teams
URL:https://significantchurch.com/event/webinar-increasing-volunteer-teams/
CATEGORIES:Webinar
END:VEVENT
BEGIN:VEVENT
DTSTART;TZID=America/Chicago:20260226T130000
DTEND;TZID=America/Chicago:20260226T140000
DTSTAMP:20260422T221531
CREATED:20260209T230625Z
LAST-MODIFIED:20260209T230734Z
UID:108767-1772110800-1772114400@significantchurch.com
SUMMARY:Webinar: Who Are We Really? Defining the Church and Who We are to be to the World
DESCRIPTION:📅 Join us Thursday\, February 26th at 1PM CT / 2PM ET for our next Significant Leader Podcast\, Who Are We Really? Defining the Church and Who We are to be to the World with Allen Hickman.
URL:https://significantchurch.com/event/webinar-11/
CATEGORIES:Webinar
END:VEVENT
BEGIN:VEVENT
DTSTART;TZID=America/Chicago:20260312T130000
DTEND;TZID=America/Chicago:20260312T140000
DTSTAMP:20260422T221531
CREATED:20260209T230625Z
LAST-MODIFIED:20260311T133716Z
UID:108765-1773320400-1773324000@significantchurch.com
SUMMARY:Webinar: One Coffee Away: How to Reach People Through Relationship
DESCRIPTION:Ministry doesn’t just happen on the stage—it often happens across a table\, over a simple conversation. That’s why we’re excited to invite you to our next Significant Leader Podcast\, where we’ll talk about the power of relationships in helping people move closer to Christ. \n📅 Thursday\, March 12th at 1PM CT / 2PM ET \n🎙️ “One Coffee Away: How to Reach People Through Relationship” \nWith Michael Graff and Pastor Joe Cameneti Jr. of Believers Church \nIn this episode\, Michael and Pastor Joe will explore how some of the most meaningful spiritual breakthroughs happen in personal conversations—not just public gatherings. You’ll hear practical insights on: \n\nWhy the gospel often moves at the speed of relationships\nHow everyday conversations can help people grow from spiritual milk to maturity\nWays a simple coffee meeting can resolve conflict\, build teams\, and create clarity\nHow relational evangelism opens doors for people to truly encounter Jesus\n\nYou’ll walk away encouraged and equipped to help people take their next step with God—sometimes just one conversation at a time.
URL:https://significantchurch.com/event/webinar-10/
CATEGORIES:Webinar
END:VEVENT
BEGIN:VEVENT
DTSTART;TZID=America/Chicago:20260326T130000
DTEND;TZID=America/Chicago:20260326T140000
DTSTAMP:20260422T221531
CREATED:20260209T230625Z
LAST-MODIFIED:20260311T133629Z
UID:117384-1774530000-1774533600@significantchurch.com
SUMMARY:Webinar: The Acceleration Mandate: God's Blueprint for Generational Impact
DESCRIPTION:God is accelerating His work in the earth—but it’s not through individuals alone. It’s through generations moving together. That’s why we’re excited to invite you to our next Significant Leader Podcast\, a conversation that will cast vision for the kind of generational unity that unleashes lasting spiritual impact. \n📅 Thursday\, March 26th at 1PM CT / 2PM ET \n🎙️ “The Acceleration Mandate: God’s Blueprint for Generational Impact” \nWith Pastors Jim Graff and John Nuzzo of Victory Family Church (Cranberry Township\, PA) \nIn this episode\, Pastor John will share key insights from The Acceleration Mandate\, a prophetic blueprint for building multi-generational momentum in your church. Together\, he and Pastor Jim will unpack: \n\nWhy alignment between generations is the key to spiritual acceleration\nHow to transfer wisdom without control or delay\nWhat “new wineskins” look like for today’s leaders\nHow every believer can step into their assignment with clarity and urgency
URL:https://significantchurch.com/event/webinar-the-acceleration-mandate-gods-blueprint-for-generational-impact/
CATEGORIES:Webinar
END:VEVENT
BEGIN:VEVENT
DTSTART;TZID=America/Chicago:20260409T130000
DTEND;TZID=America/Chicago:20260409T140000
DTSTAMP:20260422T221531
CREATED:20260326T181903Z
LAST-MODIFIED:20260408T164423Z
UID:122488-1775739600-1775743200@significantchurch.com
SUMMARY:Webinar: Readying Your Church for a New Season: Developing Next Gen Leaders
DESCRIPTION:Hi Pastor\, \nEvery new season in ministry requires preparation—and one of the most important investments we can make is in the next generation of leaders. That’s why we’re excited to invite you to our next Significant Leader Podcast\, focused on building a leadership pipeline that carries your church into the future. \n📅 Thursday\, April 9th at 1PM CT / 2PM ET\n🎙️ “Readying Your Church for a New Season: Developing Next Gen Leaders”\nWith Pastor Jim Graff and Pastor Tony Velazquez (Family Ministries Pastor\, Faith Family Church) \nIn this conversation\, Pastors Jim and Tony share practical and timely insights on raising up leaders from within your church—so what God is doing today doesn’t just continue\, but multiplies in the next generation. \nYou’ll hear how to: \nCast fresh vision that gives young leaders identity and purpose\nEmbrace healthy tension between generations to fuel growth\nDevelop people—not just delegate tasks\nCreate environments where leaders can practice\, grow\, and thrive\nBuild a culture that prepares your church for a true new season \nIf you’ve been thinking about your leadership pipeline—or feeling the urgency to invest in what’s next—this conversation will encourage and equip you.
URL:https://significantchurch.com/event/webinar-april-9-26/
CATEGORIES:Webinar
ATTACH;FMTTYPE=image/png:https://significantchurch.com/wp-content/uploads/2026/03/Firefly_Gemini-Flash-scaled.png
END:VEVENT
BEGIN:VEVENT
DTSTART;VALUE=DATE:20260413
DTEND;VALUE=DATE:20260416
DTSTAMP:20260422T221531
CREATED:20250930T141032Z
LAST-MODIFIED:20260413T124255Z
UID:107096-1776038400-1776297599@significantchurch.com
SUMMARY:Significant Church Retreat 2026
DESCRIPTION:[vc_row css_animation=”” row_type=”row” use_row_as_full_screen_section=”no” type=”full_width” angled_section=”no” text_align=”left” background_image_as_pattern=”without_pattern”][vc_column css=”.vc_custom_1737664821934{padding-top: 15px !important;padding-bottom: 15px !important;}”][vc_empty_space height=”20px”][vc_column_text css=”.vc_custom_1771447982920{margin-top: 15px !important;}”]Previously postponed in January due to weather\, we have rescheduled for April 13th-15th\, 2026! This is a time to be equipped while building ministry friendships and enjoying a special time for rest\, relaxation and recharging for ministry. \nREGISTER NOW \n  \nLooking for somewhere to stay? Consider one of these nearby locations: \n\nArcher Hotel Austin\n\n3121 Palm Way\, Austin\, TX 78758\nArcherhotel.com/austin\n512-836-5700\n\n\nThe Westin Austin at The Domain\n\n11301 Domain Dr\, Austin\, TX 78758\nMarriott.com\n512-832-4197\n\n\nLone Star Court\n\n10901 Domain Dr\nLonestarcourt.com\n855-596-3398\n\n\nHyatt Place Austin Arboretum\n\n3612 Tudor Blvd\, Austin\, TX 78759\nHyatt.com\n512-231-8491\n\n\n\n[/vc_column_text][vc_empty_space height=”40px”][vc_column_text css=””] \nSchedule\nMonday\, April 13th\n5:00PM – Registration\n6:00PM – Dinner\n7:00PM – Session #1\n9:00PM – SCN Party \nTuesday\, April 14th\n8:00AM – Breakfast\n9:00AM – Session #2\n10:30AM – Break\n10:45AM – Session #3\n12:00PM – Dismiss to Lunch \n6:00PM – Dinner\n7:00PM – Session #4\n8:20PM – Panel / Q&A\n9:00PM – SCN Party \nWednesday\, April 15th\n8:00AM – Breakfast\n9:00AM – Session #5\n10:15AM – Break\n11:00AM – Time of Prayer\n11:30AM – Dismiss[/vc_column_text][vc_empty_space height=”40px”][/vc_column][/vc_row]
URL:https://significantchurch.com/event/significant-church-leaders-retreat-2026/
LOCATION:Shoreline Church\, 15201 Burnet Rd\, Austin\, TX\, 78728
CATEGORIES:National Retreats
ATTACH;FMTTYPE=image/jpeg:https://significantchurch.com/wp-content/uploads/2025/09/scn-leader.jpg
END:VEVENT
END:VCALENDAR