BEGIN:VCALENDAR
VERSION:2.0
PRODID:-//Significant Church Network - ECPv6.15.20//NONSGML v1.0//EN
CALSCALE:GREGORIAN
METHOD:PUBLISH
X-WR-CALNAME:Significant Church Network
X-ORIGINAL-URL:https://significantchurch.com
X-WR-CALDESC:Events for Significant Church Network
REFRESH-INTERVAL;VALUE=DURATION:PT1H
X-Robots-Tag:noindex
X-PUBLISHED-TTL:PT1H
BEGIN:VTIMEZONE
TZID:America/Chicago
BEGIN:DAYLIGHT
TZOFFSETFROM:-0600
TZOFFSETTO:-0500
TZNAME:CDT
DTSTART:20200308T080000
END:DAYLIGHT
BEGIN:STANDARD
TZOFFSETFROM:-0500
TZOFFSETTO:-0600
TZNAME:CST
DTSTART:20201101T070000
END:STANDARD
BEGIN:DAYLIGHT
TZOFFSETFROM:-0600
TZOFFSETTO:-0500
TZNAME:CDT
DTSTART:20210314T080000
END:DAYLIGHT
BEGIN:STANDARD
TZOFFSETFROM:-0500
TZOFFSETTO:-0600
TZNAME:CST
DTSTART:20211107T070000
END:STANDARD
BEGIN:DAYLIGHT
TZOFFSETFROM:-0600
TZOFFSETTO:-0500
TZNAME:CDT
DTSTART:20220313T080000
END:DAYLIGHT
BEGIN:STANDARD
TZOFFSETFROM:-0500
TZOFFSETTO:-0600
TZNAME:CST
DTSTART:20221106T070000
END:STANDARD
END:VTIMEZONE
BEGIN:VEVENT
DTSTART;TZID=America/Chicago:20210504T093000
DTEND;TZID=America/Chicago:20210504T150000
DTSTAMP:20260422T160402
CREATED:20210412T190519Z
LAST-MODIFIED:20210415T154211Z
UID:29116-1620120600-1620140400@significantchurch.com
SUMMARY:XChange: Victoria\, TX - Faith Family Church
DESCRIPTION:Regional XChanges give you the opportunity to connect with pastors and church leaders just like you from your region!\nWe are so excited about the move God is doing through our many SCN churches and other churches throughout the region! We know that we are simply better together\, and XChanges like this one will enable us to help one another as we exchange ideas and proven ministry strategies in a highly relational\, one-day event. Every time we get together\, we leave encouraged\, inspired\, and refreshed! Won’t you join us? \nThe Victoria\, TX XChange event will take place on May 4th\, 2021 at Faith Family Church. Breakfast and lunch will be provided. This event is FREE! Please register you and your staff to come. \nQuestions? Contact Kristi Graff at kgraff@myffc.com or 361-648-2551. \n  \nSchedule \n8:30 a.m. – Registration and Continental Breakfast (included) \n9:30 a.m. – Worship & Message “Receiving a New Anointing for a New Era” from Pastor Jim Graff \n12 p.m. – Lunch (included) \n1 p.m. – 3 p.m. – Workshops \n  \nRegister here. \n  \n 
URL:https://significantchurch.com/event/xchange-faith-family-church/
LOCATION:Faith Family Church\, 2002 E Mockingbird Ln\, Victoria\, 77904\, United States
CATEGORIES:Xchanges
ATTACH;FMTTYPE=image/jpeg:https://significantchurch.com/wp-content/uploads/2021/04/https-cdn.evbuc_.com-images-132058311-72613371277-1-original.jpg
END:VEVENT
END:VCALENDAR